BEGIN:VCALENDAR
VERSION:2.0
PRODID:-//Bürgerliste Köfering - ECPv4.9.13//NONSGML v1.0//EN
CALSCALE:GREGORIAN
METHOD:PUBLISH
X-WR-CALNAME:Bürgerliste Köfering
X-ORIGINAL-URL:https://buergerliste-koefering.de
X-WR-CALDESC:Veranstaltungen im Bürgerliste Köfering
BEGIN:VTIMEZONE
TZID:UTC
BEGIN:STANDARD
TZOFFSETFROM:+0000
TZOFFSETTO:+0000
TZNAME:UTC
DTSTART:20200101T000000
END:STANDARD
END:VTIMEZONE
BEGIN:VEVENT
DTSTART;TZID=UTC:20201010T143000
DTEND;TZID=UTC:20201010T170000
DTSTAMP:20260421T084220
CREATED:20200105T104322Z
LAST-MODIFIED:20200105T104322Z
UID:17925-1602340200-1602349200@buergerliste-koefering.de
SUMMARY:Drachensteigerfest
DESCRIPTION:
URL:https://buergerliste-koefering.de/veranstaltung/drachensteigerfest-2
LOCATION:Köfering\, Köfering\, 93096\, Deutschland
CATEGORIES:Veranstaltung in der Gemeinde,Vereinsfest
END:VEVENT
END:VCALENDAR