BEGIN:VCALENDAR
VERSION:2.0
PRODID:-//Bürgerliste Köfering - ECPv4.9.13//NONSGML v1.0//EN
CALSCALE:GREGORIAN
METHOD:PUBLISH
X-WR-CALNAME:Bürgerliste Köfering
X-ORIGINAL-URL:https://buergerliste-koefering.de
X-WR-CALDESC:Veranstaltungen im Bürgerliste Köfering
BEGIN:VTIMEZONE
TZID:UTC
BEGIN:STANDARD
TZOFFSETFROM:+0000
TZOFFSETTO:+0000
TZNAME:UTC
DTSTART:20200101T000000
END:STANDARD
END:VTIMEZONE
BEGIN:VEVENT
DTSTART;TZID=UTC:20200229T070000
DTEND;TZID=UTC:20200229T090000
DTSTAMP:20260421T095708
CREATED:20200105T102530Z
LAST-MODIFIED:20200105T102530Z
UID:17901-1582959600-1582966800@buergerliste-koefering.de
SUMMARY:Infostand zur Kommunalwahl Bäckerei Huber
DESCRIPTION:
URL:https://buergerliste-koefering.de/veranstaltung/infostand-zur-kommunalwahl-baeckerei-huber
LOCATION:Bäckerei Huber Köfering\, Kirchstraße 14\, Köfering
END:VEVENT
END:VCALENDAR