BEGIN:VCALENDAR
VERSION:2.0
PRODID:-//Bürgerliste Köfering - ECPv4.9.13//NONSGML v1.0//EN
CALSCALE:GREGORIAN
METHOD:PUBLISH
X-WR-CALNAME:Bürgerliste Köfering
X-ORIGINAL-URL:https://buergerliste-koefering.de
X-WR-CALDESC:Veranstaltungen im Bürgerliste Köfering
BEGIN:VTIMEZONE
TZID:UTC
BEGIN:STANDARD
TZOFFSETFROM:+0000
TZOFFSETTO:+0000
TZNAME:UTC
DTSTART:20190101T000000
END:STANDARD
END:VTIMEZONE
BEGIN:VEVENT
DTSTART;TZID=UTC:20191203T190000
DTEND;TZID=UTC:20191203T220000
DTSTAMP:20260421T114236
CREATED:20190306T145447Z
LAST-MODIFIED:20191125T210040Z
UID:17582-1575399600-1575410400@buergerliste-koefering.de
SUMMARY:Weihnachtsfeier
DESCRIPTION:
URL:https://buergerliste-koefering.de/veranstaltung/weihnachtsfeier
LOCATION:Albert-Kaindl Sportheim\, Köfering\, Bayern\, 93096\, Deutschland
CATEGORIES:Sitzung,Vereinsfest
END:VEVENT
END:VCALENDAR